Package: PrInCE Version: 1.23.0 Command: rm -rf PrInCE.buildbin-libdir && mkdir PrInCE.buildbin-libdir && /Users/biocbuild/BBS/utils/build-universal.sh PrInCE_1.23.0.tar.gz /Library/Frameworks/R.framework/Resources/bin/R PrInCE.buildbin-libdir StartedAt: 2025-02-03 23:01:23 -0500 (Mon, 03 Feb 2025) EndedAt: 2025-02-03 23:01:41 -0500 (Mon, 03 Feb 2025) EllapsedTime: 18.4 seconds RetCode: 0 Status: OK PackageFile: PrInCE_1.23.0.tgz PackageFileSize: 1.687 MiB