Package: PoDCall Version: 1.17.1 Command: /home/biocbuild/bbs-3.22-bioc/R/bin/R CMD INSTALL PoDCall StartedAt: 2025-10-14 15:08:09 -0400 (Tue, 14 Oct 2025) EndedAt: 2025-10-14 15:08:20 -0400 (Tue, 14 Oct 2025) EllapsedTime: 11.3 seconds RetCode: 0 Status: OK