Package: PoDCall Version: 1.17.1 Command: /home/biocbuild/bbs-3.22-bioc/R/bin/R CMD build --keep-empty-dirs --no-resave-data --md5 PoDCall StartedAt: 2025-10-13 19:24:21 -0400 (Mon, 13 Oct 2025) EndedAt: 2025-10-13 19:24:40 -0400 (Mon, 13 Oct 2025) EllapsedTime: 19.0 seconds RetCode: 0 Status: OK PackageFile: PoDCall_1.17.1.tar.gz PackageFileSize: 3.012 MiB