Package: Pirat Version: 1.3.0 Command: /Library/Frameworks/R.framework/Resources/bin/R CMD check --install=check:Pirat.install-out.txt --library=/Library/Frameworks/R.framework/Resources/library --no-vignettes --timings Pirat_1.3.0.tar.gz StartedAt: 2025-05-05 21:39:10 -0400 (Mon, 05 May 2025) EndedAt: 2025-05-05 21:40:47 -0400 (Mon, 05 May 2025) EllapsedTime: 97.2 seconds RetCode: 0 Status: OK CheckDir: Pirat.Rcheck Warnings: 0