Package: Pigengene Version: 1.35.0 Command: chmod a+r Pigengene -R && F:\biocbuild\bbs-3.22-bioc\R\bin\R.exe CMD build --keep-empty-dirs --no-resave-data Pigengene StartedAt: 2025-08-14 22:20:45 -0400 (Thu, 14 Aug 2025) EndedAt: 2025-08-14 22:27:27 -0400 (Thu, 14 Aug 2025) EllapsedTime: 402.4 seconds RetCode: 0 Status: OK PackageFile: Pigengene_1.35.0.tar.gz PackageFileSize: 2.698 MiB