Package: Pigengene Version: 1.35.0 Command: rm -rf Pigengene.buildbin-libdir && mkdir Pigengene.buildbin-libdir && F:\biocbuild\bbs-3.22-bioc\R\bin\R.exe CMD INSTALL --build --library=Pigengene.buildbin-libdir Pigengene_1.35.0.tar.gz StartedAt: 2025-08-15 10:57:38 -0400 (Fri, 15 Aug 2025) EndedAt: 2025-08-15 10:58:30 -0400 (Fri, 15 Aug 2025) EllapsedTime: 51.5 seconds RetCode: 0 Status: OK PackageFile: Pigengene_1.35.0.zip PackageFileSize: 2.978 MiB