Package: Pigengene Version: 1.33.0 Command: /home/biocbuild/R/R/bin/R CMD check --install=check:Pigengene.install-out.txt --library=/home/biocbuild/R/R/site-library --no-vignettes --timings Pigengene_1.33.0.tar.gz StartedAt: 2025-01-28 13:55:18 -0000 (Tue, 28 Jan 2025) EndedAt: 2025-01-28 14:04:51 -0000 (Tue, 28 Jan 2025) EllapsedTime: 572.5 seconds RetCode: 1 Status: ERROR CheckDir: Pigengene.Rcheck Warnings: NA