Package: Pigengene Version: 1.33.0 Command: /home/biocbuild/R/R/bin/R CMD build --keep-empty-dirs --no-resave-data Pigengene StartedAt: 2025-01-29 01:17:31 -0000 (Wed, 29 Jan 2025) EndedAt: 2025-01-29 01:23:19 -0000 (Wed, 29 Jan 2025) EllapsedTime: 347.2 seconds RetCode: 0 Status: OK PackageFile: Pigengene_1.33.0.tar.gz PackageFileSize: 2.698 MiB