Package: Pigengene Version: 1.35.0 Maintainer: Habil Zare MaintainerEmail: zare at u.washington.edu git_url: https://git.bioconductor.org/packages/Pigengene git_branch: devel git_last_commit: ab1017c git_last_commit_date: 2025-04-15 11:02:19 -0400 (Tue, 15 Apr 2025)