Package: Pi Version: 2.17.1 Command: /home/biocbuild/bbs-3.21-bioc/R/bin/R CMD INSTALL Pi StartedAt: 2024-10-24 03:29:47 -0400 (Thu, 24 Oct 2024) EndedAt: 2024-10-24 03:29:48 -0400 (Thu, 24 Oct 2024) EllapsedTime: 1.4 seconds RetCode: 1 Status: ERROR