Package: PhosR Version: 1.19.2 Command: /home/biocbuild/bbs-3.22-bioc/R/bin/R CMD INSTALL PhosR StartedAt: 2025-09-30 15:18:50 -0400 (Tue, 30 Sep 2025) EndedAt: 2025-09-30 15:19:20 -0400 (Tue, 30 Sep 2025) EllapsedTime: 29.2 seconds RetCode: 0 Status: OK