Package: PhosR Version: 1.19.2 Command: /home/biocbuild/bbs-3.22-bioc/R/bin/R CMD build --keep-empty-dirs --no-resave-data --md5 PhosR StartedAt: 2025-09-30 19:17:27 -0400 (Tue, 30 Sep 2025) EndedAt: 2025-09-30 19:20:36 -0400 (Tue, 30 Sep 2025) EllapsedTime: 189.2 seconds RetCode: 0 Status: OK PackageFile: PhosR_1.19.2.tar.gz PackageFileSize: 7.432 MiB