Package: PhenoGeneRanker Version: 1.15.0 Command: E:\biocbuild\bbs-3.21-bioc\R\bin\R.exe CMD INSTALL PhenoGeneRanker StartedAt: 2025-02-04 15:25:34 -0500 (Tue, 04 Feb 2025) EndedAt: 2025-02-04 15:26:00 -0500 (Tue, 04 Feb 2025) EllapsedTime: 26.3 seconds RetCode: 0 Status: OK