Package: PhenoGeneRanker Version: 1.15.0 Command: chmod a+r PhenoGeneRanker -R && E:\biocbuild\bbs-3.21-bioc\R\bin\R.exe CMD build --keep-empty-dirs --no-resave-data PhenoGeneRanker StartedAt: 2025-02-04 20:45:38 -0500 (Tue, 04 Feb 2025) EndedAt: 2025-02-04 20:53:35 -0500 (Tue, 04 Feb 2025) EllapsedTime: 477.7 seconds RetCode: 0 Status: OK PackageFile: PhenoGeneRanker_1.15.0.tar.gz PackageFileSize: 28.24 KiB