Package: PhenoGeneRanker Version: 1.15.0 Command: rm -rf PhenoGeneRanker.buildbin-libdir && mkdir PhenoGeneRanker.buildbin-libdir && E:\biocbuild\bbs-3.21-bioc\R\bin\R.exe CMD INSTALL --build --library=PhenoGeneRanker.buildbin-libdir PhenoGeneRanker_1.15.0.tar.gz StartedAt: 2025-02-05 08:34:31 -0500 (Wed, 05 Feb 2025) EndedAt: 2025-02-05 08:35:18 -0500 (Wed, 05 Feb 2025) EllapsedTime: 47.0 seconds RetCode: 0 Status: OK PackageFile: PhenoGeneRanker_1.15.0.zip PackageFileSize: 86.17 KiB