Package: PhenoGeneRanker Version: 1.15.0 Command: /home/biocbuild/bbs-3.21-bioc/R/bin/R CMD check --install=check:PhenoGeneRanker.install-out.txt --library=/home/biocbuild/bbs-3.21-bioc/R/site-library --timings PhenoGeneRanker_1.15.0.tar.gz StartedAt: 2025-02-06 01:19:35 -0500 (Thu, 06 Feb 2025) EndedAt: 2025-02-06 01:27:31 -0500 (Thu, 06 Feb 2025) EllapsedTime: 475.8 seconds RetCode: 0 Status: OK CheckDir: PhenoGeneRanker.Rcheck Warnings: 0