Package: PhenoGeneRanker Version: 1.15.0 Command: /Library/Frameworks/R.framework/Resources/bin/R CMD INSTALL PhenoGeneRanker StartedAt: 2025-02-05 15:06:56 -0500 (Wed, 05 Feb 2025) EndedAt: 2025-02-05 15:07:21 -0500 (Wed, 05 Feb 2025) EllapsedTime: 25.0 seconds RetCode: 0 Status: OK