Package: PhenoGeneRanker
Version: 1.15.0
Command: /Library/Frameworks/R.framework/Resources/bin/R CMD check --install=check:PhenoGeneRanker.install-out.txt --library=/Library/Frameworks/R.framework/Resources/library --no-vignettes --timings PhenoGeneRanker_1.15.0.tar.gz
StartedAt: 2025-02-19 22:20:48 -0500 (Wed, 19 Feb 2025)
EndedAt: 2025-02-19 22:22:38 -0500 (Wed, 19 Feb 2025)
EllapsedTime: 110.3 seconds
RetCode: 0
Status: OK
CheckDir: PhenoGeneRanker.Rcheck
Warnings: 0