Package: PhenoGeneRanker Version: 1.15.0 Command: /Library/Frameworks/R.framework/Resources/bin/R CMD build --keep-empty-dirs --no-resave-data PhenoGeneRanker StartedAt: 2025-02-05 17:50:10 -0500 (Wed, 05 Feb 2025) EndedAt: 2025-02-05 17:55:49 -0500 (Wed, 05 Feb 2025) EllapsedTime: 339.4 seconds RetCode: 0 Status: OK PackageFile: PhenoGeneRanker_1.15.0.tar.gz PackageFileSize: 28.08 KiB