Package: PhenoGeneRanker Version: 1.15.0 Command: /home/biocbuild/R/R/bin/R CMD build --keep-empty-dirs --no-resave-data PhenoGeneRanker StartedAt: 2025-01-29 01:15:42 -0000 (Wed, 29 Jan 2025) EndedAt: 2025-01-29 01:24:01 -0000 (Wed, 29 Jan 2025) EllapsedTime: 498.3 seconds RetCode: 0 Status: OK PackageFile: PhenoGeneRanker_1.15.0.tar.gz PackageFileSize: 28.81 KiB