Package: PhenoGeneRanker Version: 1.17.0 Command: /Library/Frameworks/R.framework/Resources/bin/R CMD check --install=check:PhenoGeneRanker.install-out.txt --library=/Library/Frameworks/R.framework/Resources/library --no-vignettes --timings PhenoGeneRanker_1.17.0.tar.gz StartedAt: 2025-05-06 21:10:54 -0400 (Tue, 06 May 2025) EndedAt: 2025-05-06 21:11:36 -0400 (Tue, 06 May 2025) EllapsedTime: 41.5 seconds RetCode: 0 Status: OK CheckDir: PhenoGeneRanker.Rcheck Warnings: 0