Package: PhenoGeneRanker Version: 1.15.0 Command: rm -rf PhenoGeneRanker.buildbin-libdir && mkdir PhenoGeneRanker.buildbin-libdir && /Users/biocbuild/BBS/utils/build-universal.sh PhenoGeneRanker_1.15.0.tar.gz /Library/Frameworks/R.framework/Resources/bin/R PhenoGeneRanker.buildbin-libdir StartedAt: 2025-02-05 22:29:59 -0500 (Wed, 05 Feb 2025) EndedAt: 2025-02-05 22:30:03 -0500 (Wed, 05 Feb 2025) EllapsedTime: 4.1 seconds RetCode: 0 Status: OK PackageFile: PhenoGeneRanker_1.15.0.tgz PackageFileSize: 80.11 KiB