Package: PhenStat Version: 2.45.0 Command: rm -rf PhenStat.buildbin-libdir && mkdir PhenStat.buildbin-libdir && F:\biocbuild\bbs-3.22-bioc\R\bin\R.exe CMD INSTALL --build --library=PhenStat.buildbin-libdir PhenStat_2.45.0.tar.gz StartedAt: 2025-06-19 09:45:07 -0400 (Thu, 19 Jun 2025) EndedAt: 2025-06-19 09:46:36 -0400 (Thu, 19 Jun 2025) EllapsedTime: 89.1 seconds RetCode: 0 Status: OK PackageFile: PhenStat_2.45.0.zip PackageFileSize: 1.251 MiB