Package: PhenStat Version: 2.43.0 Command: E:\biocbuild\bbs-3.21-bioc\R\bin\R.exe CMD check --no-multiarch --install=check:PhenStat.install-out.txt --library=E:\biocbuild\bbs-3.21-bioc\R\library --no-vignettes --timings PhenStat_2.43.0.tar.gz StartedAt: 2025-02-15 04:11:57 -0500 (Sat, 15 Feb 2025) EndedAt: 2025-02-15 04:14:47 -0500 (Sat, 15 Feb 2025) EllapsedTime: 170.0 seconds RetCode: 0 Status: OK CheckDir: PhenStat.Rcheck Warnings: 0