Package: PhenStat Version: 2.43.0 Command: chmod a+r PhenStat -R && E:\biocbuild\bbs-3.21-bioc\R\bin\R.exe CMD build --keep-empty-dirs --no-resave-data PhenStat StartedAt: 2025-02-16 20:37:51 -0500 (Sun, 16 Feb 2025) EndedAt: 2025-02-16 20:38:39 -0500 (Sun, 16 Feb 2025) EllapsedTime: 47.8 seconds RetCode: 0 Status: OK PackageFile: PhenStat_2.43.0.tar.gz PackageFileSize: 682.7 KiB