Package: PhenStat Version: 2.43.0 Command: rm -rf PhenStat.buildbin-libdir && mkdir PhenStat.buildbin-libdir && E:\biocbuild\bbs-3.21-bioc\R\bin\R.exe CMD INSTALL --build --library=PhenStat.buildbin-libdir PhenStat_2.43.0.tar.gz StartedAt: 2025-02-17 08:08:03 -0500 (Mon, 17 Feb 2025) EndedAt: 2025-02-17 08:09:18 -0500 (Mon, 17 Feb 2025) EllapsedTime: 75.5 seconds RetCode: 0 Status: OK PackageFile: PhenStat_2.43.0.zip PackageFileSize: 1.251 MiB