Package: PharmacoGx Version: 3.13.2 Command: /home/biocbuild/bbs-3.22-bioc/R/bin/R CMD INSTALL PharmacoGx StartedAt: 2025-10-03 15:23:05 -0400 (Fri, 03 Oct 2025) EndedAt: 2025-10-03 15:23:48 -0400 (Fri, 03 Oct 2025) EllapsedTime: 42.9 seconds RetCode: 0 Status: OK