Package: PharmacoGx Version: 3.13.2 Command: /home/biocbuild/bbs-3.22-bioc/R/bin/R CMD build --keep-empty-dirs --no-resave-data --md5 PharmacoGx StartedAt: 2025-10-03 19:15:34 -0400 (Fri, 03 Oct 2025) EndedAt: 2025-10-03 19:16:56 -0400 (Fri, 03 Oct 2025) EllapsedTime: 82.1 seconds RetCode: 0 Status: OK PackageFile: PharmacoGx_3.13.2.tar.gz PackageFileSize: 4.492 MiB