Package: PhIPData Version: 1.15.0 Command: /Library/Frameworks/R.framework/Resources/bin/R CMD INSTALL PhIPData StartedAt: 2025-02-03 15:18:09 -0500 (Mon, 03 Feb 2025) EndedAt: 2025-02-03 15:18:44 -0500 (Mon, 03 Feb 2025) EllapsedTime: 35.8 seconds RetCode: 0 Status: OK