Package: PhIPData Version: 1.15.0 Command: /home/biocbuild/R/R/bin/R CMD build --keep-empty-dirs --no-resave-data PhIPData StartedAt: 2025-01-29 01:16:44 -0000 (Wed, 29 Jan 2025) EndedAt: 2025-01-29 01:17:43 -0000 (Wed, 29 Jan 2025) EllapsedTime: 59.1 seconds RetCode: 0 Status: OK PackageFile: PhIPData_1.15.0.tar.gz PackageFileSize: 846.4 KiB