Package: PepsNMR Version: 1.27.0 Command: /home/biocbuild/bbs-3.22-bioc/R/bin/R CMD build --keep-empty-dirs --no-resave-data --md5 PepsNMR StartedAt: 2025-10-09 19:20:32 -0400 (Thu, 09 Oct 2025) EndedAt: 2025-10-09 19:23:47 -0400 (Thu, 09 Oct 2025) EllapsedTime: 194.2 seconds RetCode: 0 Status: OK PackageFile: PepsNMR_1.27.0.tar.gz PackageFileSize: 1.446 MiB