Package: PepSetTest Version: 1.3.0 Command: /home/biocbuild/R/R/bin/R CMD INSTALL PepSetTest StartedAt: 2025-10-23 20:45:47 -0000 (Thu, 23 Oct 2025) EndedAt: 2025-10-23 20:45:49 -0000 (Thu, 23 Oct 2025) EllapsedTime: 2.2 seconds RetCode: 0 Status: OK