Package: Pedixplorer Version: 1.5.6 Command: /home/biocbuild/R/R/bin/R CMD build --keep-empty-dirs --no-resave-data Pedixplorer StartedAt: 2025-09-30 02:11:23 -0000 (Tue, 30 Sep 2025) EndedAt: 2025-09-30 02:13:34 -0000 (Tue, 30 Sep 2025) EllapsedTime: 131.1 seconds RetCode: 0 Status: OK PackageFile: Pedixplorer_1.5.6.tar.gz PackageFileSize: 5.846 MiB