Package: Pedixplorer Version: 1.5.5 Command: F:\biocbuild\bbs-3.22-bioc\R\bin\R.exe CMD INSTALL Pedixplorer StartedAt: 2025-08-14 15:40:06 -0400 (Thu, 14 Aug 2025) EndedAt: 2025-08-14 15:43:51 -0400 (Thu, 14 Aug 2025) EllapsedTime: 225.7 seconds RetCode: 0 Status: OK