Package: Pedixplorer Version: 1.5.3 Command: /Library/Frameworks/R.framework/Resources/bin/R CMD INSTALL Pedixplorer StartedAt: 2025-05-09 15:07:05 -0400 (Fri, 09 May 2025) EndedAt: 2025-05-09 15:07:13 -0400 (Fri, 09 May 2025) EllapsedTime: 7.6 seconds RetCode: 0 Status: OK