Package: Pedixplorer Version: 1.5.3 Command: /Library/Frameworks/R.framework/Resources/bin/R CMD build --keep-empty-dirs --no-resave-data Pedixplorer StartedAt: 2025-05-16 17:08:06 -0400 (Fri, 16 May 2025) EndedAt: 2025-05-16 17:08:38 -0400 (Fri, 16 May 2025) EllapsedTime: 31.4 seconds RetCode: 0 Status: OK PackageFile: Pedixplorer_1.5.3.tar.gz PackageFileSize: 5.595 MiB