Package: PeacoQC Version: 1.19.0 Command: /home/biocbuild/bbs-3.22-bioc/R/bin/R CMD INSTALL PeacoQC StartedAt: 2025-10-14 15:25:03 -0400 (Tue, 14 Oct 2025) EndedAt: 2025-10-14 15:25:18 -0400 (Tue, 14 Oct 2025) EllapsedTime: 15.0 seconds RetCode: 0 Status: OK