Package: PeacoQC Version: 1.17.0 Command: /home/biocbuild/R/R/bin/R CMD check --install=check:PeacoQC.install-out.txt --library=/home/biocbuild/R/R/site-library --no-vignettes --timings PeacoQC_1.17.0.tar.gz StartedAt: 2025-01-28 13:47:38 -0000 (Tue, 28 Jan 2025) EndedAt: 2025-01-28 13:50:13 -0000 (Tue, 28 Jan 2025) EllapsedTime: 155.2 seconds RetCode: 0 Status: OK CheckDir: PeacoQC.Rcheck Warnings: 0