Package: PathoStat Version: 1.35.0 Command: rm -rf PathoStat.buildbin-libdir && mkdir PathoStat.buildbin-libdir && F:\biocbuild\bbs-3.22-bioc\R\bin\R.exe CMD INSTALL --build --library=PathoStat.buildbin-libdir PathoStat_1.35.0.tar.gz StartedAt: 2025-08-15 10:55:33 -0400 (Fri, 15 Aug 2025) EndedAt: 2025-08-15 10:56:36 -0400 (Fri, 15 Aug 2025) EllapsedTime: 63.3 seconds RetCode: 0 Status: OK PackageFile: PathoStat_1.35.0.zip PackageFileSize: 1.056 MiB