Package: PathoStat Version: 1.33.0 Command: /Library/Frameworks/R.framework/Resources/bin/R CMD build --keep-empty-dirs --no-resave-data PathoStat StartedAt: 2025-02-16 17:41:02 -0500 (Sun, 16 Feb 2025) EndedAt: 2025-02-16 17:42:05 -0500 (Sun, 16 Feb 2025) EllapsedTime: 63.9 seconds RetCode: 0 Status: OK PackageFile: PathoStat_1.33.0.tar.gz PackageFileSize: 947.9 KiB