Package: PanomiR Version: 1.11.0 Command: E:\biocbuild\bbs-3.21-bioc\R\bin\R.exe CMD check --no-multiarch --install=check:PanomiR.install-out.txt --library=E:\biocbuild\bbs-3.21-bioc\R\library --no-vignettes --timings PanomiR_1.11.0.tar.gz StartedAt: 2025-02-04 04:22:06 -0500 (Tue, 04 Feb 2025) EndedAt: 2025-02-04 04:23:59 -0500 (Tue, 04 Feb 2025) EllapsedTime: 112.3 seconds RetCode: 0 Status: OK CheckDir: PanomiR.Rcheck Warnings: 0