Package: PanomiR Version: 1.11.0 Command: /Library/Frameworks/R.framework/Resources/bin/R CMD INSTALL PanomiR StartedAt: 2025-02-03 15:40:20 -0500 (Mon, 03 Feb 2025) EndedAt: 2025-02-03 15:40:25 -0500 (Mon, 03 Feb 2025) EllapsedTime: 5.0 seconds RetCode: 0 Status: OK