Package: PanomiR Version: 1.11.0 Command: /Library/Frameworks/R.framework/Resources/bin/R CMD check --install=check:PanomiR.install-out.txt --library=/Library/Frameworks/R.framework/Resources/library --no-vignettes --timings PanomiR_1.11.0.tar.gz StartedAt: 2025-02-03 22:19:02 -0500 (Mon, 03 Feb 2025) EndedAt: 2025-02-03 22:21:23 -0500 (Mon, 03 Feb 2025) EllapsedTime: 140.8 seconds RetCode: 0 Status: OK CheckDir: PanomiR.Rcheck Warnings: 0