Package: PWMEnrich Version: 4.45.0 Command: rm -rf PWMEnrich.buildbin-libdir && mkdir PWMEnrich.buildbin-libdir && F:\biocbuild\bbs-3.22-bioc\R\bin\R.exe CMD INSTALL --build --library=PWMEnrich.buildbin-libdir PWMEnrich_4.45.0.tar.gz StartedAt: 2025-08-15 11:01:15 -0400 (Fri, 15 Aug 2025) EndedAt: 2025-08-15 11:02:30 -0400 (Fri, 15 Aug 2025) EllapsedTime: 74.5 seconds RetCode: 0 Status: OK PackageFile: PWMEnrich_4.45.0.zip PackageFileSize: 1.992 MiB