Package: PWMEnrich Version: 4.43.0 Command: chmod a+r PWMEnrich -R && E:\biocbuild\bbs-3.21-bioc\R\bin\R.exe CMD build --keep-empty-dirs --no-resave-data PWMEnrich StartedAt: 2025-02-16 20:48:55 -0500 (Sun, 16 Feb 2025) EndedAt: 2025-02-16 20:51:13 -0500 (Sun, 16 Feb 2025) EllapsedTime: 137.6 seconds RetCode: 0 Status: OK PackageFile: PWMEnrich_4.43.0.tar.gz PackageFileSize: 1.573 MiB