Package: PWMEnrich Version: 4.43.0 Command: /home/biocbuild/R/R/bin/R CMD INSTALL PWMEnrich StartedAt: 2025-01-29 19:41:18 -0000 (Wed, 29 Jan 2025) EndedAt: 2025-01-29 19:41:35 -0000 (Wed, 29 Jan 2025) EllapsedTime: 16.9 seconds RetCode: 0 Status: OK