Package: PWMEnrich Version: 4.43.0 Command: /home/biocbuild/R/R/bin/R CMD check --install=check:PWMEnrich.install-out.txt --library=/home/biocbuild/R/R/site-library --no-vignettes --timings PWMEnrich_4.43.0.tar.gz StartedAt: 2025-01-28 14:10:23 -0000 (Tue, 28 Jan 2025) EndedAt: 2025-01-28 14:12:34 -0000 (Tue, 28 Jan 2025) EllapsedTime: 131.1 seconds RetCode: 0 Status: OK CheckDir: PWMEnrich.Rcheck Warnings: 0