Package: PWMEnrich Version: 4.45.0 Maintainer: Diego Diez MaintainerEmail: diego10ruiz at gmail.com git_url: https://git.bioconductor.org/packages/PWMEnrich git_branch: devel git_last_commit: b39cbba git_last_commit_date: 2025-04-15 10:14:17 -0400 (Tue, 15 Apr 2025)