Package: PSMatch Version: 1.11.0 Command: rm -rf PSMatch.buildbin-libdir && mkdir PSMatch.buildbin-libdir && E:\biocbuild\bbs-3.21-bioc\R\bin\R.exe CMD INSTALL --build --library=PSMatch.buildbin-libdir PSMatch_1.11.0.tar.gz StartedAt: 2025-02-04 08:39:04 -0500 (Tue, 04 Feb 2025) EndedAt: 2025-02-04 08:39:45 -0500 (Tue, 04 Feb 2025) EllapsedTime: 40.8 seconds RetCode: 0 Status: OK PackageFile: PSMatch_1.11.0.zip PackageFileSize: 1.426 MiB