Package: PSMatch Version: 1.11.0 Command: /home/biocbuild/bbs-3.21-bioc/R/bin/R CMD INSTALL PSMatch StartedAt: 2025-02-03 15:43:04 -0500 (Mon, 03 Feb 2025) EndedAt: 2025-02-03 15:43:32 -0500 (Mon, 03 Feb 2025) EllapsedTime: 28.5 seconds RetCode: 0 Status: OK